BEGIN:VCALENDAR
VERSION:2.0
PRODID:spatie/icalendar-generator
NAME:ILS Lifesaving Sport
X-WR-CALNAME:ILS Lifesaving Sport
BEGIN:VTIMEZONE
TZID:UTC
BEGIN:STANDARD
DTSTART:20250725T085522
TZOFFSETFROM:+0000
TZOFFSETTO:+0000
END:STANDARD
END:VTIMEZONE
BEGIN:VEVENT
UID:ilsf-champ-69e73b7ad235a4.18942586@ilsf.org
DTSTAMP:20260421T085522Z
DTSTART:20260626T000000Z
DTEND:20260628T000000Z
SUMMARY:Campionato Regionale Di Categoria Estivo Piemonte-Liguria
DESCRIPTION:Campionato Regionale Di Categoria Estivo Piemonte-Liguria
URL:https://sport.ilsf.org/championships/2026-campionato-regionale-di-categ
 oria-estivo-piemonte-liguria
LOCATION:Palazzo del Nuoto (Torino)
END:VEVENT
END:VCALENDAR